BEGIN:VCALENDAR
VERSION:2.0
PRODID:-//Mata Atlântica EcoFestival 2025 - ECPv6.5.1.6//NONSGML v1.0//EN
CALSCALE:GREGORIAN
METHOD:PUBLISH
X-ORIGINAL-URL:https://mataatlanticaecofestival.com.br
X-WR-CALDESC:Eventos para Mata Atlântica EcoFestival 2025
REFRESH-INTERVAL;VALUE=DURATION:PT1H
X-Robots-Tag:noindex
X-PUBLISHED-TTL:PT1H
BEGIN:VTIMEZONE
TZID:UTC
BEGIN:STANDARD
TZOFFSETFROM:+0000
TZOFFSETTO:+0000
TZNAME:UTC
DTSTART:20250101T000000
END:STANDARD
END:VTIMEZONE
BEGIN:VEVENT
DTSTART;TZID=UTC:20250824T080000
DTEND;TZID=UTC:20250824T150000
DTSTAMP:20260422T091647
CREATED:20250821T145721Z
LAST-MODIFIED:20250821T145721Z
UID:24355-1756022400-1756047600@mataatlanticaecofestival.com.br
SUMMARY:Yoga e Banho de Floresta\, com a Casa Maha Devi\, na sede da Eco Guaricana
DESCRIPTION:Vivência à Mata com os professores Christyano e Gisele Ricetti\, para café da manhã\, atividades na Natureza e almoço com opção de prato vegano. Pequenas caminhadas lentas prestando atenção ao movimento dos pés com os sentidos atentos\, permitindo integração completa de consciência no ambiente da floresta. O silêncio e o contato com a Natureza permitem serenar a mente e o corpo e ajudam a expandir o que é percebido pelos sentidos\, sendo cientificamente aconselhado como método para reduzir o estresse. \nAdquira seu ingresso\n< Voltar a programação
URL:https://mataatlanticaecofestival.com.br/evento/yoga-e-banho-de-floresta-com-a-casa-maha-devi-na-sede-da-eco-guaricana/
LOCATION:Eco Guaricana\, Estrada Velha da Guaricana\, nº 500\, São José dos Pinhais\, Paraná
CATEGORIES:Outros
ATTACH;FMTTYPE=image/jpeg:https://mataatlanticaecofestival.com.br/wp-content/uploads/2025/08/WhatsApp-Image-2024-10-07-at-18.40.16.jpeg
END:VEVENT
BEGIN:VEVENT
DTSTART;TZID=UTC:20250824T090000
DTEND;TZID=UTC:20250824T120000
DTSTAMP:20260422T091647
CREATED:20250711T200842Z
LAST-MODIFIED:20250801T194303Z
UID:23774-1756026000-1756036800@mataatlanticaecofestival.com.br
SUMMARY:Pilates Solo
DESCRIPTION:Atleta ou iniciante? Tanto faz! Pilates solo é para todos. Com diferentes níveis de condicionamento\, o método traz movimentos que auxiliam no fortalecimento do corpo de forma geral\, melhorando a postura e trazendo equilíbrio entre corpo e mente. \nAdquira seu ingresso\n< Voltar a programação
URL:https://mataatlanticaecofestival.com.br/evento/pilates-solo/
LOCATION:Canal Aventura Bike Park\, Rua Guiana Francesa\, Fazenda das Araucárias\, Piraquara\, Paraná
CATEGORIES:Outros
ATTACH;FMTTYPE=image/jpeg:https://mataatlanticaecofestival.com.br/wp-content/uploads/2025/07/Mata_Programacao_pilates.jpg
END:VEVENT
END:VCALENDAR